BEGIN:VCALENDAR
VERSION:2.0
PRODID:-//ChamberMaster//Event Calendar 2.0//EN
METHOD:PUBLISH
X-PUBLISHED-TTL:P3D
REFRESH-INTERVAL:P3D
CALSCALE:GREGORIAN
BEGIN:VEVENT
DTSTART:20230829T160000Z
DTEND:20230829T163000Z
X-MICROSOFT-CDO-ALLDAYEVENT:FALSE
SUMMARY:Marin Economic Forum: Marin Economic Briefing
DESCRIPTION:Come join MEF's next Briefing on Tuesday\, August 29 at 9:00 a.m. Mike Blakeley and Dr. Robert Eyler will continue looking at the current 2023 data and prospects. We look forward to you joining us.\n\n\n\nWe welcome your questions in advance of the program. Please submit your question to admin@marineconomicforum.org.\n\n\n\nYou are invited to a Zoom webinar.\n\nWhen: Aug 29\, 2023 09:00 AM Pacific Time (US and Canada)\n\nTopic: MEF Econ Briefing\n\n\n\nRegister in advance for this webinar\n\n\n\nAfter registering\, you will receive a confirmation email containing information about joining the webinar.
X-ALT-DESC;FMTTYPE=text/html:<br />\nCome join MEF&#39\;s next Briefing on <u>Tuesday\, August 29 at 9:00 a.m.</u> Mike Blakeley and Dr. Robert Eyler will continue looking at the current 2023 data and prospects. We look forward to you joining us.<br />\n<br />\nWe welcome your questions in advance of the program. Please submit your question to <strong><a href="mailto:admin@marineconomicforum.org">admin@marineconomicforum.org</a>.</strong><br />\n<br />\nYou are invited to a Zoom webinar.<br />\nWhen: Aug 29\, 2023 09:00 AM Pacific Time (US and Canada)<br />\nTopic: MEF Econ Briefing<br />\n<br />\n<strong><a href="https://SonomaState.zoom.us/webinar/register/WN_5FjSj2b7Sn67keNgpw3HVA">Register in advance for this webinar</a></strong><br />\n<br />\nAfter registering\, you will receive a confirmation email containing information about joining the webinar.
LOCATION:Virtual
UID:e.9100.5118
SEQUENCE:3
DTSTAMP:20260423T211951Z
URL:http://marinba.memberzone.com/events/details/marin-economic-forum-marin-economic-briefing-5118
END:VEVENT

END:VCALENDAR
