BEGIN:VCALENDAR
VERSION:2.0
PRODID:-//ChamberMaster//Event Calendar 2.0//EN
METHOD:PUBLISH
X-PUBLISHED-TTL:P3D
REFRESH-INTERVAL:P3D
CALSCALE:GREGORIAN
BEGIN:VEVENT
DTSTART:20231003T160000Z
DTEND:20231003T163000Z
X-MICROSOFT-CDO-ALLDAYEVENT:FALSE
SUMMARY:Marin Economic Forum: Marin Economic Briefing
DESCRIPTION:Come join MEF's next Briefing on Tuesday\, October 3 at 9:00 am. Mike Blakeley and Dr. Robert Eyler will continue looking at the current 2023 data and prospects. We look forward to you joining us.\n\n\n\nWe welcome your questions in advance of the program. Please submit your question to admin@marineconomicforum.org.\n\n\n\nYou are invited to a Zoom webinar.\n\nWhen: Oct 3\, 2023 09:00 AM Pacific Time (US and Canada)\n\nTopic: MEF Econ Briefing\n\n\n\nRegister in advance for this webinar:\n\nhttps://SonomaState.zoom.us/webinar/register/WN_-0lbAiL0SWOcJX_-DKvK4g\n\n\n\nAfter registering\, you will receive a confirmation email containing information about joining the webinar.
X-ALT-DESC;FMTTYPE=text/html:<br />\nCome join MEF&#39\;s next Briefing on&nbsp\;Tuesday\, October 3&nbsp\;at 9:00 am. Mike Blakeley and Dr. Robert Eyler will continue looking at the current 2023 data and prospects. We look forward to you joining us.<br />\n<br />\nWe welcome your questions in advance of the program. Please submit your question to<strong>&nbsp\;<a href="mailto:admin@marineconomicforum.org">admin@marineconomicforum.org</a></strong>.<br />\n<br />\nYou are invited to a Zoom webinar.<br />\nWhen: Oct 3\, 2023 09:00 AM Pacific Time (US and Canada)<br />\nTopic: MEF Econ Briefing<br />\n<br />\nRegister in advance for this webinar:<br />\n<strong><a href="https://SonomaState.zoom.us/webinar/register/WN_-0lbAiL0SWOcJX_-DKvK4g">https://SonomaState.zoom.us/webinar/register/WN_-0lbAiL0SWOcJX_-DKvK4g</a></strong><br />\n<br />\nAfter registering\, you will receive a confirmation email containing information about joining the webinar.
LOCATION:Virtual
UID:e.9100.5139
SEQUENCE:3
DTSTAMP:20260423T112546Z
URL:http://marinba.memberzone.com/events/details/marin-economic-forum-marin-economic-briefing-5139
END:VEVENT

END:VCALENDAR
