BEGIN:VCALENDAR
VERSION:2.0
PRODID:-//ChamberMaster//Event Calendar 2.0//EN
METHOD:PUBLISH
X-PUBLISHED-TTL:P3D
REFRESH-INTERVAL:P3D
CALSCALE:GREGORIAN
BEGIN:VEVENT
DTSTART:20231107T170000Z
DTEND:20231107T173000Z
X-MICROSOFT-CDO-ALLDAYEVENT:FALSE
SUMMARY:Marin Economic Forum: Marin Economic Briefing
DESCRIPTION:Please Join CEO Mike Blakeley and Dr. Robert Eyler\, MEF Chief Economist\, on Tuesday\, November 7th at 9:00 am  for an update on the state and national economies\, recent forecasts\, and Marin County's evolving labor and other markets with 2024 just around the corner!\n\n\n\nWe welcome your questions in advance of the program.\n\n\n\nPlease submit your questions to admin@marineconomicforum.org.\n\n\n\nPlease register in advance for this webinar.\n\n\n\nAfter registering\, you will receive a confirmation email containing information about joining the webinar.
X-ALT-DESC;FMTTYPE=text/html:<br />\nPlease Join CEO Mike Blakeley and Dr. Robert Eyler\, MEF Chief Economist\, on<u> Tuesday\, November 7th at 9:00 am&nbsp\;</u> for an update on the state and national economies\, recent forecasts\, and Marin County&#39\;s evolving labor and other markets with 2024 just around the corner!<br />\n<br />\nWe welcome your questions in advance of the program.<br />\n<br />\nPlease submit your questions to<strong>&nbsp\;<a href="mailto:admin@marineconomicforum.org">admin@marineconomicforum.org</a></strong>.<br />\n<br />\n<strong><a href="https://sonomastate.zoom.us/webinar/register/WN_trv69uT1SgyUAHaPYy0HSg#/registration">Please register in advance for this webinar.</a></strong><br />\n<br />\nAfter registering\, you will receive a confirmation email containing information about joining the webinar.
LOCATION:Virtual
UID:e.9100.5144
SEQUENCE:3
DTSTAMP:20260423T063741Z
URL:http://marinba.memberzone.com/events/details/marin-economic-forum-marin-economic-briefing-5144
END:VEVENT

END:VCALENDAR
