BEGIN:VCALENDAR
VERSION:2.0
PRODID:-//ChamberMaster//Event Calendar 2.0//EN
METHOD:PUBLISH
X-PUBLISHED-TTL:P3D
REFRESH-INTERVAL:P3D
CALSCALE:GREGORIAN
BEGIN:VEVENT
DTSTART:20231212T170000Z
DTEND:20231212T173000Z
X-MICROSOFT-CDO-ALLDAYEVENT:FALSE
SUMMARY:Marin Economic Forum: Marin Economic Briefing
DESCRIPTION:Please Join MEF's last Briefing of 2023 on Tuesday\, December 12 at 9:00 am. Mike Blakeley and Dr. Robert Eyler will wrap-up 2023 data and present 2024 prospects. We look forward to you joining us.\n\n\n\nWe welcome your questions in advance of the program.\n\n\n\nPlease submit your questions to admin@marineconomicforum.org.\n\n\n\nPlease register in advance for this webinar.\n\n\n\nAfter registering\, you will receive a confirmation email containing information about joining the webinar.\n\n\n\nSAVE THE DATE: Forecasting the Future 2024\n\nMark your calendars for our upcoming Forecasting the Future to be held on Wednesday\, February 7\, 2024\, from 9-11am\, at the Jonas Center in Novato. Stay tuned\, further details will be forthcoming.
X-ALT-DESC;FMTTYPE=text/html:<br />\nPlease Join MEF&#39\;s last Briefing of 2023 on&nbsp\;<strong>Tuesday\, December 12 at 9:00 am</strong>. Mike Blakeley and Dr. Robert Eyler will wrap-up 2023 data and present 2024 prospects. We look forward to you joining us.<br />\n<br />\nWe welcome your questions in advance of the program.<br />\n<br />\nPlease submit your questions to<strong>&nbsp\;<a href="mailto:admin@marineconomicforum.org">admin@marineconomicforum.org</a></strong>.<br />\n<br />\n<strong><a href="https://sonomastate.zoom.us/webinar/register/WN_trv69uT1SgyUAHaPYy0HSg#/registration">Please register in advance for this webinar.</a></strong><br />\n<br />\nAfter registering\, you will receive a confirmation email containing information about joining the webinar.<br />\n<br />\n<strong>SAVE THE DATE: Forecasting the Future 2024</strong><br />\nMark your calendars for our upcoming Forecasting the Future to be held on <strong>Wednesday\, February 7\, 2024\,&nbsp\;from 9-11am</strong>\, at the Jonas Center in Novato. Stay tuned\, further details will be forthcoming.&nbsp\;&nbsp\;
LOCATION:Virtual
UID:e.9100.5155
SEQUENCE:3
DTSTAMP:20260423T044921Z
URL:http://marinba.memberzone.com/events/details/marin-economic-forum-marin-economic-briefing-5155
END:VEVENT

END:VCALENDAR
