BEGIN:VCALENDAR
VERSION:2.0
PRODID:-//ChamberMaster//Event Calendar 2.0//EN
METHOD:PUBLISH
X-PUBLISHED-TTL:P3D
REFRESH-INTERVAL:P3D
CALSCALE:GREGORIAN
BEGIN:VEVENT
DTSTART:20240311T160000Z
DTEND:20240311T163000Z
X-MICROSOFT-CDO-ALLDAYEVENT:FALSE
SUMMARY:Marin Economic Forum: Marin Economic Briefing
DESCRIPTION:Come join MEF's first Briefing of 2024 on Monday\, March 11 at 9:00 am. Mike Blakeley and Dr. Robert Eyler will present 2024 early data and prospects. We look forward to you joining us.\n\n\n\nWe welcome your questions in advance of the program. Please submit your questions to admin@marineconomicforum.org.\n\n\n\nPlease register in advance for this webinar.\n\n\n\nAfter registering\, you will receive a confirmation email containing information about joining the webinar.
X-ALT-DESC;FMTTYPE=text/html:Come join MEF&#39\;s first Briefing of 2024 on Monday\, March 11 at 9:00 am. Mike Blakeley and Dr. Robert Eyler will present 2024 early data and prospects. We look forward to you joining us.<br />\n<br />\nWe welcome your questions in advance of the program.&nbsp\;Please submit your questions to<strong>&nbsp\;<a href="mailto:admin@marineconomicforum.org">admin@marineconomicforum.org</a></strong>.<br />\n<br />\n<a href="https://sonomastate.zoom.us/webinar/register/WN_CDSt5OODQkGQZ4NwJAiITA#/registration"><strong>Please register in advance for this webinar.</strong></a><br />\n<br />\nAfter registering\, you will receive a confirmation email containing information about joining the webinar.<br />\n<br />\n&nbsp\;
LOCATION:Virtual
UID:e.9100.5303
SEQUENCE:3
DTSTAMP:20260422T235833Z
URL:http://marinba.memberzone.com/events/details/marin-economic-forum-marin-economic-briefing-5303
END:VEVENT

END:VCALENDAR
