BEGIN:VCALENDAR
VERSION:2.0
PRODID:-//ChamberMaster//Event Calendar 2.0//EN
METHOD:PUBLISH
X-PUBLISHED-TTL:P3D
REFRESH-INTERVAL:P3D
CALSCALE:GREGORIAN
BEGIN:VEVENT
DTSTART:20240722T160000Z
DTEND:20240722T163000Z
X-MICROSOFT-CDO-ALLDAYEVENT:FALSE
SUMMARY:Marin Economic Forum: Marin Economic Briefing
DESCRIPTION:Come join us for MEF's next briefing on Monday\, July 22 at 9:00 am. Mike Blakeley and Dr. Robert Eyler will continue to present 2024 data and prospects. We look forward to you joining us.\n\n\n\nWe welcome your questions in advance of the program. Please submit your questions to admin@marineconomicforum.org.\n\n\n\nPlease register in advance for this webinar.\n\n\n\nAfter registering\, you will receive a confirmation email containing information about joining the webinar.
X-ALT-DESC;FMTTYPE=text/html:<br />\nCome join us for MEF&#39\;s next briefing on Monday\, July 22 at 9:00 am. Mike Blakeley and Dr. Robert Eyler will continue to present 2024 data and prospects. We look forward to you joining us.<br />\n<br />\nWe welcome your questions in advance of the program.&nbsp\;Please submit your questions to<strong>&nbsp\;<a href="mailto:admin@marineconomicforum.org">admin@marineconomicforum.org</a></strong>.<br />\n<br />\n<a href="https://us02web.zoom.us/meeting/register/tZUvce-przwvHtXKjNQQPlKGIrI_IDQ9LXb5#/registration"><strong>Please register in advance for this webinar.</strong></a><br />\n<br />\nAfter registering\, you will receive a confirmation email containing information about joining the webinar.<br />\n<br />\n&nbsp\;
LOCATION:Virtual
UID:e.9100.5349
SEQUENCE:3
DTSTAMP:20260422T095159Z
URL:http://marinba.memberzone.com/events/details/marin-economic-forum-marin-economic-briefing-5349
END:VEVENT

END:VCALENDAR
