BEGIN:VCALENDAR
VERSION:2.0
PRODID:-//ChamberMaster//Event Calendar 2.0//EN
METHOD:PUBLISH
X-PUBLISHED-TTL:P3D
REFRESH-INTERVAL:P3D
CALSCALE:GREGORIAN
BEGIN:VEVENT
DTSTART:20241119T170000Z
DTEND:20241119T173000Z
X-MICROSOFT-CDO-ALLDAYEVENT:FALSE
SUMMARY:Marin Economic Forum: Marin Economic Briefing
DESCRIPTION:Our next Briefing is on Tuesday\, November 19th at 9:00 am. Mike Blakeley and Dr. Robert Eyler will continue to present 2024 data and 2025 prospects.\n\n\n\nREGISTER HERE\n\n\n\nWe welcome your questions in advance of the program. Please submit your questions to admin@marineconomicforum.org.
X-ALT-DESC;FMTTYPE=text/html:<br />\nOur next Briefing is on Tuesday\, November 19th at 9:00 am. Mike Blakeley and Dr. Robert Eyler will continue to present 2024 data and 2025 prospects.<br />\n<br />\n<a href="https://us02web.zoom.us/meeting/register/tZYkceugqTojG9zVDrJ_JwsaTQlwunQ8sV0u#/registration"><b>REGISTER HERE</b></a><br />\n<br />\nWe welcome your questions in advance of the program.&nbsp\;Please submit your questions to<strong>&nbsp\;<a href="mailto:admin@marineconomicforum.org">admin@marineconomicforum.org</a></strong>.<br />\n<br />\n<br />\n<br />\n<br />\n&nbsp\;
LOCATION:
UID:e.9100.5580
SEQUENCE:3
DTSTAMP:20260422T023854Z
URL:http://marinba.memberzone.com/events/details/marin-economic-forum-marin-economic-briefing-5580
END:VEVENT

END:VCALENDAR
