BEGIN:VCALENDAR
VERSION:2.0
PRODID:-//ChamberMaster//Event Calendar 2.0//EN
METHOD:PUBLISH
X-PUBLISHED-TTL:P3D
REFRESH-INTERVAL:P3D
CALSCALE:GREGORIAN
BEGIN:VEVENT
DTSTART:20241210T170000Z
DTEND:20241210T173000Z
X-MICROSOFT-CDO-ALLDAYEVENT:FALSE
SUMMARY:Marin Economic Forum: Marin Economic Briefing
DESCRIPTION:Register Now: MEF Economic Briefing\n\nDecember 10 - 9am\n\n\nRegister for our next Briefing on Tuesday\, December 10 at 9:00 am. Mike Blakeley and Dr. Robert Eyler will continue to present 2024 data and 2025 prospects. Registration details are below. \n\n\n\nWe welcome your questions in advance of the program. Please submit your question to admin@marineconomicforum.org.\n\n \n\nYou are invited to a Zoom webinar.\n\nWhen: Dec 10\, 2024 09:00 AM Pacific Time (US and Canada)\n\nTopic: MEF Economic Briefing\n\n\n\nRegistration Link: \n\nhttps://us02web.zoom.us/meeting/register/tZMlf-qtqjsuHdflmS3g38WlFdqXAiNWc5vj\n\n\n\nAfter registering\, you will receive a confirmation email containing information about joining the meeting.
X-ALT-DESC;FMTTYPE=text/html:<h2 style="text-align: center\;">Register Now: MEF Economic Briefing<br />\nDecember 10&nbsp\;- 9am</h2>\n<br />\nRegister for our next Briefing on <strong>Tuesday\, December 10&nbsp\;at 9:00 am.</strong> Mike Blakeley and Dr. Robert Eyler will continue to present 2024 data and 2025 prospects. Registration details are below.&nbsp\;<br />\n<br />\nWe welcome your questions in advance of the program. Please submit your question to&nbsp\;<strong><a href="mailto:admin@marineconomicforum.org">admin@marineconomicforum.org</a></strong>.<br />\n&nbsp\;<br />\nYou are invited to a Zoom webinar.<br />\nWhen: Dec 10\, 2024 09:00 AM Pacific Time (US and Canada)<br />\nTopic: MEF Economic Briefing<br />\n<br />\nRegistration Link:&nbsp\;<br />\n<strong><a href="https://us02web.zoom.us/meeting/register/tZMlf-qtqjsuHdflmS3g38WlFdqXAiNWc5vj">https://us02web.zoom.us/meeting/register/tZMlf-qtqjsuHdflmS3g38WlFdqXAiNWc5vj</a></strong><br />\n<br />\nAfter registering\, you will receive a confirmation email containing information about joining the meeting.<br />\n<br />\n<br />\n<br />\n<br />\n&nbsp\;
LOCATION:Online
UID:e.9100.5600
SEQUENCE:3
DTSTAMP:20260422T003519Z
URL:http://marinba.memberzone.com/events/details/marin-economic-forum-marin-economic-briefing-5600
END:VEVENT

END:VCALENDAR
