BEGIN:VCALENDAR
VERSION:2.0
PRODID:-//ChamberMaster//Event Calendar 2.0//EN
METHOD:PUBLISH
X-PUBLISHED-TTL:P3D
REFRESH-INTERVAL:P3D
CALSCALE:GREGORIAN
BEGIN:VEVENT
DTSTART:20231010T150000Z
DTEND:20231010T170000Z
X-MICROSOFT-CDO-ALLDAYEVENT:FALSE
SUMMARY:North Bay NARI Sexual Harassment Prevention CA Required Webinar
DESCRIPTION:NARI Silicon Valley is offering its annual Sexual Harassment Prevention Training to employees of NARI member or non-member companies with 5 or more employees. Non-Supervisory and Supervisory employees.\n\n\n\nWhat You Will Learn:\n\n	How state and federal laws define "sexual harassment" and how to identify it in the workplace\n	What to do if you experience sexual harassment\n	How to develop a sexual harassment policy\n	How to respond to a complaint of harassment and discrimination\n	How to conduct an internal sexual harassment investigation to avoid liability\n\nAll training will include questions that assess learning\, skill-building activities to assess understanding and application of content\, and hypothetical scenarios about harassment with discussion questions.\n\n\n\nAt the end of training all will receive a certificate\, upon completion of a questionnaire\, which companies can hold in employee files.\n\n\n\nREGISTER HERE
X-ALT-DESC;FMTTYPE=text/html:NARI Silicon Valley is offering its annual&nbsp\;Sexual Harassment Prevention Training&nbsp\;to employees of NARI member or non-member companies with 5 or more employees.&nbsp\;<strong>Non-Supervisory and Supervisory employees.</strong><br />\n<br />\n<strong>What You Will Learn:</strong>\n<ul>\n	<li>How state and federal laws define &quot\;sexual harassment&quot\; and how to identify it in the workplace</li>\n	<li>What to do if you experience sexual harassment</li>\n	<li>How to develop a sexual harassment policy</li>\n	<li>How to respond to a complaint of harassment and discrimination</li>\n	<li>How to conduct an internal sexual harassment investigation to avoid liability</li>\n</ul>\nAll training will include questions that assess learning\, skill-building activities to assess understanding and application of content\, and hypothetical scenarios about harassment with discussion questions.<br />\n<br />\nAt the end of training all will receive a certificate\,&nbsp\;upon completion of a questionnaire\, which companies can hold in employee files.<br />\n<br />\n<strong><a href="https://narisv.org/meetinginfo.php?id=290&amp\;ts=1694630941">REGISTER HERE</a></strong>
LOCATION:Virtual
UID:e.9100.5145
SEQUENCE:3
DTSTAMP:20260423T112341Z
URL:http://marinba.memberzone.com/events/details/north-bay-nari-sexual-harassment-prevention-ca-required-webinar-5145
END:VEVENT

END:VCALENDAR
