BEGIN:VCALENDAR
VERSION:2.0
PRODID:-//ChamberMaster//Event Calendar 2.0//EN
METHOD:PUBLISH
X-PUBLISHED-TTL:P3D
REFRESH-INTERVAL:P3D
CALSCALE:GREGORIAN
BEGIN:VEVENT
DTSTART:20250110T010000Z
DTEND:20250110T033000Z
X-MICROSOFT-CDO-ALLDAYEVENT:FALSE
SUMMARY:Novato Chamber of Commerce 2025 Honors Dinner - Tickets Available Now!
DESCRIPTION:We are excited to invite you to our Annual Honors Dinner\, a special evening dedicated to celebrating excellence and community achievement. This event brings together our members to honor the contributions and successes that have strengthened our community over the past year.\n\n \nThursday\, January 9\, 2024\n\n5:00 PM   7:30 PM\n\n Bill and Adele Jonas Center\n \n\nThis evening will be an opportunity to celebrate the remarkable achievements of 2024 and recognize those who have made a lasting impact. Highlights of the evening include:\n\n \n\n	Awards Ceremony: Honoring Large\, Small\, and Micro Businesses of the Year\, along with the Ambassador\, Sponsor\, and Volunteer of the Year.\n	Leadership Transition: A heartfelt farewell to our CEO of 20 years\, Coy Smith\, and a warm welcome to our incoming CEO\, Christina Mendes.\n	Board Updates: Remarks from our outgoing and incoming Board Presidents as we reflect on a successful year and look forward to the future.\n\nPlease register for the event (or find the form to nominate a business for the above awards) using this link: https://www.novatochamber.com/honors/. If you have any issues or need assistance\, contact Kim Tran at kim@novatochamber.com or 415-897-1164.\n\nYour support and dedication as Chamber members have been instrumental in our shared success\, and we look forward to celebrating this memorable evening with you.
X-ALT-DESC;FMTTYPE=text/html:We are excited to invite you to our Annual Honors Dinner\, a special evening dedicated to celebrating excellence and community achievement. This event brings together our members to honor the contributions and successes that have strengthened our community over the past year.<br />\n&nbsp\;\n<div style="text-align: center\;"><strong>Thursday\, January 9\, 2024<br />\n5:00 PM &ndash\; 7:30 PM<br />\n&nbsp\;Bill and Adele Jonas Center</strong></div>\n&nbsp\;<br />\nThis evening will be an opportunity to celebrate the remarkable achievements of 2024 and recognize those who have made a lasting impact. Highlights of the evening include:<br />\n&nbsp\;\n<ul>\n	<li>Awards Ceremony: Honoring Large\, Small\, and Micro Businesses of the Year\, along with the Ambassador\, Sponsor\, and Volunteer of the Year.</li>\n	<li>Leadership Transition: A heartfelt farewell to our CEO of 20 years\, Coy Smith\, and a warm welcome to our incoming CEO\, Christina Mendes.</li>\n	<li>Board Updates: Remarks from our outgoing and incoming Board Presidents as we reflect on a successful year and look forward to the future.</li>\n</ul>\nPlease register for the event (or find the form to nominate a business for the above awards)&nbsp\;using this link: <strong><a href="https://www.novatochamber.com/honors/">https://www.novatochamber.com/honors/</a></strong>. If you have any issues or need assistance\, contact Kim Tran at <strong><a href="mailto:kim@novatochamber.com">kim@novatochamber.com</a> </strong>or 415-897-1164.\n\n<p>Your support and dedication as Chamber members have been instrumental in our shared success\, and we look forward to celebrating this memorable evening with you.</p>\n
LOCATION:Bill and Adele Jonas Center 1800 Ignacio Blvd Building 19 Novato\, CA 94949
UID:e.9100.5599
SEQUENCE:3
DTSTAMP:20260422T003608Z
URL:http://marinba.memberzone.com/events/details/novato-chamber-of-commerce-2025-honors-dinner-tickets-available-now-5599
END:VEVENT

END:VCALENDAR
