BEGIN:VCALENDAR
VERSION:2.0
PRODID:-//ChamberMaster//Event Calendar 2.0//EN
METHOD:PUBLISH
X-PUBLISHED-TTL:P3D
REFRESH-INTERVAL:P3D
CALSCALE:GREGORIAN
BEGIN:VEVENT
DTSTART:20230913T000000Z
DTEND:20230913T020000Z
X-MICROSOFT-CDO-ALLDAYEVENT:FALSE
SUMMARY:Partnership Event: PHCC of the Redwood Empire\, NARI North Bay and Marin Remodelers Forum
DESCRIPTION:Join us for this three-partner event at Jack London Kitchen & Bath's gorgeous showroom!\n\n\n	\n	Meet and connect with members from PHCC of the Redwood Empire\, NARI North Bay\, and Marin Builders Association's Marin Remodelers Forum\n	\n	\n	Enjoy delicious refreshments generously provided by our sponsor/host Jack London Kitchen & Bath\n	\n\n\nThe National Association of Plumbing-Heating-Cooling Contractors\, PHCC\, is the oldest trade organization in the construction industry and the largest in the plumbing\, heating and cooling industry.\n\n\n\nNORTH BAY NARI embraces the entire remodeling community and provides its members with the benefits of a national organization dedicated to the remodeling industry.\n\n\n\nThis is a complimentary event but space is limited so please email christine@marinbuilders.com to reserve your spot!\n\n \n\nQuestions?  Call our office (415) 462-1220 or email christine@marinbuilders.com
X-ALT-DESC;FMTTYPE=text/html:<div>&nbsp\;</div>\n\n<h3><strong>Join us for this <u>three-partner</u>&nbsp\;event&nbsp\;at Jack London Kitchen &amp\; Bath&#39\;s gorgeous showroom!</strong></h3>\n\n<ul>\n	<li>\n	<p>Meet and connect with members from PHCC of the Redwood Empire\, NARI North Bay\, and Marin Builders Association&#39\;s Marin Remodelers Forum</p>\n	</li>\n	<li>\n	<p>Enjoy delicious refreshments generously provided by our sponsor/host Jack London Kitchen &amp\; Bath</p>\n	</li>\n</ul>\n\n<div><em>The <strong>National Association of Plumbing-Heating-Cooling Contractors\, PHCC</strong>\, is the oldest trade organization in the construction industry and the largest in the plumbing\, heating and cooling industry.<br />\n<br />\n<strong>NORTH BAY NARI</strong> embraces the entire remodeling community and provides its members with the benefits of a national organization dedicated to the remodeling industry.</em><br />\n<br />\n<strong>This is a complimentary event but space is limited so please email <a href="mailto:christine@marinbuilders.com?subject=Partnership%20Event">christine@marinbuilders.com</a> to reserve your spot!</strong></div>\n\n<div>&nbsp\;</div>\n\n<div>Questions?&nbsp\; Call our office (415) 462-1220 or email christine@marinbuilders.com</div>\n
LOCATION:Jack London Kitchen & Bath 3070 Kerner Blvd.\, Ste. B San Rafael\, CA 94941
UID:e.9100.5121
SEQUENCE:3
DTSTAMP:20260423T164234Z
URL:http://marinba.memberzone.com/events/details/partnership-event-phcc-of-the-redwood-empire-nari-north-bay-and-marin-remodelers-forum-5121
END:VEVENT

END:VCALENDAR
