BEGIN:VCALENDAR
VERSION:2.0
PRODID:-//ChamberMaster//Event Calendar 2.0//EN
METHOD:PUBLISH
X-PUBLISHED-TTL:P3D
REFRESH-INTERVAL:P3D
CALSCALE:GREGORIAN
BEGIN:VEVENT
DTSTART:20240210T170000Z
DTEND:20240210T230000Z
X-MICROSOFT-CDO-ALLDAYEVENT:FALSE
SUMMARY:Solarcraft at Jackson's Hardware THIS Saturday\, February 10th!
DESCRIPTION:Solar Event at Jackson's Hardware\n\n\n\nCelebrate 100 years in business! Visit SolarCraft (est. 1984) at Jackson's Hardware (est. 1964) this Saturday from 9 am   3 pm and sign-up for $1\,000 off your solar & battery installation.\n\n\n\nReady for an emergency battery backup system? Tired of paying PG&E's escalating energy costs? Learn about battery storage and solar for your home and pickup post-storm supplies from the store while you're at it.
X-ALT-DESC;FMTTYPE=text/html:<br />\n<strong>Solar Event at Jackson&#39\;s Hardware</strong><br />\n<br />\nCelebrate 100 years in business! Visit SolarCraft (est. 1984) at Jackson&rsquo\;s Hardware (est. 1964) this Saturday from 9 am &ndash\; 3 pm and sign-up for $1\,000 off your solar &amp\; battery installation.<br />\n<br />\nReady for an emergency battery backup system? Tired of paying PG&amp\;E&rsquo\;s escalating energy costs? Learn about battery storage and solar for your home and pickup post-storm supplies from the store while you&rsquo\;re at it.
LOCATION:Jackson's Hardware 62 Woodland Ave\, San Rafael
UID:e.9100.5169
SEQUENCE:3
DTSTAMP:20260423T000710Z
URL:http://marinba.memberzone.com/events/details/solarcraft-at-jackson-s-hardware-this-saturday-february-10th-5169
END:VEVENT

END:VCALENDAR
