BEGIN:VCALENDAR
VERSION:2.0
PRODID:-//ChamberMaster//Event Calendar 2.0//EN
METHOD:PUBLISH
X-PUBLISHED-TTL:P3D
REFRESH-INTERVAL:P3D
CALSCALE:GREGORIAN
BEGIN:VEVENT
DTSTART:20240522T190000Z
DTEND:20240522T203000Z
X-MICROSOFT-CDO-ALLDAYEVENT:FALSE
SUMMARY:Streamline Social Media with Meta Business Suite
DESCRIPTION:Meta Business Suite acts as a centralized management portal for Facebook pages and Instagram accounts. Through Business Suite\, you can improve efficiency by uploading up to a month of content at once\, schedule publication times\, and coordinate marketing campaigns with partners. This saves you time and helps you plan ahead. This workshop will specifically cover:\n\n\n	Intro to Meta Business Suite & Connecting Your Profiles\n	Managing Content Creation and Scheduling\n	Understanding the Dashboard to Analyze Performance\n\n\nInstructor Stephanie Koehler has over 25 years of experience with marketing and promoting everything from musicians (working for Linda Ronstadt) + movies to marketing organic salad + museums\; leading multi-million fundraising campaigns\; managing successful non-profits\; and training the leaders of tomorrow.\n\n\n\nRegister here: https://www.marinsbdc.org/event/meta/
X-ALT-DESC;FMTTYPE=text/html:<p>Meta Business Suite acts as a centralized management portal for Facebook pages and Instagram accounts. Through Business Suite\, you can improve efficiency by uploading up to a month of content at once\, schedule publication times\, and coordinate marketing campaigns with partners. This saves you time and helps you plan ahead. This workshop will specifically cover:</p>\n\n<ul>\n	<li>Intro to Meta Business Suite &amp\; Connecting Your Profiles</li>\n	<li>Managing Content Creation and Scheduling</li>\n	<li>Understanding the Dashboard to Analyze Performance</li>\n</ul>\n\n<p>Instructor Stephanie Koehler has over 25 years of experience with marketing and promoting everything from musicians (working for Linda Ronstadt) + movies to marketing organic salad + museums\; leading multi-million fundraising campaigns\; managing successful non-profits\; and training the leaders of tomorrow.<br />\n<br />\n<strong>Register here:&nbsp\;<a href="https://www.marinsbdc.org/event/meta/">https://www.marinsbdc.org/event/meta/</a></strong></p>\n
LOCATION:Via Zoom
UID:e.9100.5330
SEQUENCE:3
DTSTAMP:20260422T162711Z
URL:http://marinba.memberzone.com/events/details/streamline-social-media-with-meta-business-suite-5330
END:VEVENT

END:VCALENDAR
