BEGIN:VCALENDAR
VERSION:2.0
PRODID:-//ChamberMaster//Event Calendar 2.0//EN
METHOD:PUBLISH
X-PUBLISHED-TTL:P3D
REFRESH-INTERVAL:P3D
CALSCALE:GREGORIAN
BEGIN:VEVENT
DTSTART:20240509T180000Z
DTEND:20240509T193000Z
X-MICROSOFT-CDO-ALLDAYEVENT:FALSE
SUMMARY:The Construction Economy Outlook Spring 2024: What is Normal Anymore?
DESCRIPTION:Hi there\,\n\n\n\nDo you know what's in store for the construction economy as we head into the second half of 2024? \n\n\n\nJoin us May 9\, 2024\, from 11:00 - 12:30 p.m. PST for "The Construction Economy Outlook Spring 2024: What is Normal Anymore?"\n\n\n\nHear from leading construction economists and industry professionals in real-time. Receive the commentary you need to face the construction economy confidently moving forward. \n\n\n\nREGISTER NOW\n\n\n\nTopics covered will include the state of the industry\, economic risks\, and ongoing changes in labor and inflation. This webcast is free to attend.\n\n \n\nThis webcast is registered with the American Institute of Architects for continuing professional education. All AIA members should include their AIA Member ID when registering to earn 1.5 CE Learning Unit credits.
X-ALT-DESC;FMTTYPE=text/html:Hi there\,<br />\n<br />\nDo you know what&rsquo\;s in store for the construction economy as we head into the second half of 2024?&nbsp\;<br />\n<br />\nJoin us <strong>May 9\, 2024\, from 11:00 - 12:30 p.m. PST</strong> for &ldquo\;The Construction Economy Outlook Spring 2024: What is Normal Anymore?&quot\;<br />\n<br />\nHear from leading construction economists and industry professionals in real-time. Receive the commentary you need to face the construction economy confidently moving forward.&nbsp\;<br />\n<br />\n<a href="https://constructconnect.registration.goldcast.io/events/77f69aac-e8fd-402b-aada-c745794463ae?utm_campaign=2024+Spring+Economic+Webcast-+May+9th+2024&amp\;utm_medium=email&amp\;_hsenc=p2ANqtz-_jVLDYojQk4DQeT946aOVhiA0Ka0WaAyWlBvVUBJA3bn8Xo3TF4DE5h3BQ01SVlxFIJl5B0FhVcvFKYM9dZmeq-HO8iw&amp\;_hsmi=301873955&amp\;utm_content=301873955&amp\;utm_source=hs_automation"><strong>REGISTER NOW</strong></a><br />\n<br />\nTopics covered will include the state of the industry\, economic risks\, and ongoing changes in labor and inflation. <em>This webcast is free to attend.</em><br />\n&nbsp\;<br />\nThis webcast is registered with the American Institute of Architects for continuing professional education. All AIA members should include their AIA Member ID when registering to earn 1.5 CE Learning Unit credits.<br />\n<br />\n&nbsp\;
LOCATION:Virtual REGISTER
UID:e.9100.5336
SEQUENCE:3
DTSTAMP:20260422T192837Z
URL:http://marinba.memberzone.com/events/details/the-construction-economy-outlook-spring-2024-what-is-normal-anymore-5336
END:VEVENT

END:VCALENDAR
