BEGIN:VCALENDAR
VERSION:2.0
PRODID:-//ChamberMaster//Event Calendar 2.0//EN
METHOD:PUBLISH
X-PUBLISHED-TTL:P3D
REFRESH-INTERVAL:P3D
CALSCALE:GREGORIAN
BEGIN:VEVENT
DTSTART:20230728T190000Z
DTEND:20230728T220000Z
X-MICROSOFT-CDO-ALLDAYEVENT:FALSE
SUMMARY:The Greenlynx Lumber Yard and Reuse Store Tour
DESCRIPTION:Please join us for a guided tour of the Greenlynx Lumber Yard and Reuse Store. As a valued member of our community and an organization dedicated to sustainability and environmental consciousness\, we believe that this tour will be of great interest and value to you.\n\n\n\nDuring the tour\, you will have the opportunity to explore our lumber yard and witness firsthand our commitment to responsible lumber sourcing\, processing\, and distribution. Our team will be on hand to explain our sustainable practices\, including our efforts to salvage and repurpose lumber and other building materials\, reducing waste and carbon footprint.\n\n\n\nThe Reuse Store\, an integral part of Greenlynx\, is where we offer salvaged materials to the public at affordable prices. This aspect of our operations significantly contributes to diverting reusable materials from landfills\, promoting a circular economy\, and supporting local builders\, artisans\, and DIY enthusiasts.\n\n\n\nThe tour will also include a Q&A session\, where you can inquire about our operations\, sustainability initiatives\, and the ways we collaborate with businesses and organizations in the community to promote environmental stewardship.\n\n\n\nWe genuinely believe that this tour will be an enlightening experience and an excellent opportunity to foster partnerships in our shared mission to protect the environment and create a more sustainable future.
X-ALT-DESC;FMTTYPE=text/html:Please join us for a guided tour of the <a href="https://greenlynx.net/"><strong>Greenlynx Lumber Yard and Reuse Store</strong></a>. As a valued member of our community and an organization dedicated to sustainability and environmental consciousness\, we believe that this tour will be of great interest and value to you.<br />\n<br />\nDuring the tour\, you will have the opportunity to explore our lumber yard and witness firsthand our commitment to responsible lumber sourcing\, processing\, and distribution. Our team will be on hand to explain our sustainable practices\, including our efforts to salvage and repurpose lumber and other building materials\, reducing waste and carbon footprint.<br />\n<br />\nThe Reuse Store\, an integral part of Greenlynx\, is where we offer salvaged materials to the public at affordable prices. This aspect of our operations significantly contributes to diverting reusable materials from landfills\, promoting a circular economy\, and supporting local builders\, artisans\, and DIY enthusiasts.<br />\n<br />\nThe tour will also include a Q&amp\;A session\, where you can inquire about our operations\, sustainability initiatives\, and the ways we collaborate with businesses and organizations in the community to promote environmental stewardship.<br />\n<br />\nWe genuinely believe that this tour will be an enlightening experience and an excellent opportunity to foster partnerships in our shared mission to protect the environment and create a more sustainable future.<br />\n&nbsp\;
LOCATION:Greenlynx Lumber Yard and Reuse Store 3220 Santa Rosa Ave. Santa Rosa\, CA
UID:e.9100.5117
SEQUENCE:3
DTSTAMP:20260423T212029Z
URL:http://marinba.memberzone.com/events/details/the-greenlynx-lumber-yard-and-reuse-store-tour-5117
END:VEVENT

END:VCALENDAR
