BEGIN:VCALENDAR
VERSION:2.0
PRODID:-//ChamberMaster//Event Calendar 2.0//EN
METHOD:PUBLISH
X-PUBLISHED-TTL:P3D
REFRESH-INTERVAL:P3D
CALSCALE:GREGORIAN
BEGIN:VEVENT
DTSTART:20230906T160000Z
DTEND:20230907T050500Z
X-MICROSOFT-CDO-ALLDAYEVENT:FALSE
SUMMARY:Webinar: Winning Your Bid Protest
DESCRIPTION:Join Howard Roth and Jake Scott for a free webinar\, "Winning Your Bid Protest" on September 6\, 2023 at 9:00 AM.\n\n\n\nProtests are an important weapon in a contractor's arsenal. Whether as a successful awardee or disappointed bidder\, contractors must understand the bid protest process to successfully defend their rights to full and open competition as a protester or defend their contract awards from protest.\n\n\n\nWe will cover these key points:\n\n	The Best Place to File and Win Your Bid Protest\n	Secret Weapon: Use of Agency Protests\n	Winning at Government Accountability Office (GAO)\n	Winning at U.S. Court of Federal Claims (COFC)\n	Special Issues: Construction protests and Other Transaction Authority (OTAs)\n	What to Ask in a Debriefing\n	Defending Your Contract Award Under Protest\n	Understanding Protective Orders: Key to Victory\n\nThe webinar will be split into two sections\, with a presentation from 9:00 - 9:50 AM and Q&A from 9:50 - 10:05 AM.
X-ALT-DESC;FMTTYPE=text/html:<br />\nJoin Howard Roth and Jake Scott for a free webinar\, &ldquo\;Winning Your Bid Protest&rdquo\; on September 6\, 2023 at 9:00 AM.<br />\n<br />\nProtests are an important weapon in a contractor&rsquo\;s arsenal. Whether as a successful awardee or disappointed bidder\, contractors must understand the bid protest process to successfully defend their rights to full and open competition as a protester or defend their contract awards from protest.<br />\n<br />\nWe will cover these key points:\n<ul>\n	<li>The Best Place to File and Win Your Bid Protest</li>\n	<li>Secret Weapon: Use of Agency Protests</li>\n	<li>Winning at Government Accountability Office (GAO)</li>\n	<li>Winning at U.S. Court of Federal Claims (COFC)</li>\n	<li>Special Issues: Construction protests and Other Transaction Authority (OTAs)</li>\n	<li>What to Ask in a Debriefing</li>\n	<li>Defending Your Contract Award Under Protest</li>\n	<li>Understanding Protective Orders: Key to Victory</li>\n</ul>\nThe webinar will be split into two sections\, with a presentation from 9:00 - 9:50 AM and Q&amp\;A from 9:50 - 10:05 AM.
LOCATION:VIrtual
UID:e.9100.5124
SEQUENCE:3
DTSTAMP:20260423T163800Z
URL:http://marinba.memberzone.com/events/details/webinar-winning-your-bid-protest-5124
END:VEVENT

END:VCALENDAR
