BEGIN:VCALENDAR
VERSION:2.0
PRODID:-//ChamberMaster//Event Calendar 2.0//EN
METHOD:PUBLISH
X-PUBLISHED-TTL:P3D
REFRESH-INTERVAL:P3D
CALSCALE:GREGORIAN
BEGIN:VEVENT
DTSTART;VALUE=DATE:20240427
DTEND;VALUE=DATE:20240428
TRANSP:TRANSPARENT
X-MICROSOFT-CDO-ALLDAYEVENT:TRUE
SUMMARY:Welcome to Decorator Showcase 2024 | April 27 - May 27
DESCRIPTION:Come tour the magnificent Bliss Estate\, a 19th-century mansion at the top of Pacific Heights\, while benefiting the San Francisco University High School Financial Aid Program. Transformed by visionary Bay Area talents\, a visit to the spectacular Showcase home is a beloved spring tradition for design inspiration.\n\n\n\nSince 1977\, the San Francisco Decorator Showcase has raised over $18 million to benefit the San Francisco University High School Financial Aid Program.\n2898 Broadway\n\nSan Francisco\, CA 94115\n\n\nHOURS VARY:\n\nTuesday\, Wednesday\, Thursday and Saturday: 10:00 a.m. - 3:00 p.m. (last entry)\;\n\nFriday: 10:00 a.m. - 7:00 p.m. (last entry)\;\n\nSunday and Memorial Day: 11:00 a.m. - 4:00 p.m. (last entry)\;\n\nCLOSED MONDAYS (except Memorial Day)\n\n\n\nView More Information Here
X-ALT-DESC;FMTTYPE=text/html:Come tour the magnificent Bliss Estate\, a 19th-century mansion at the top of Pacific Heights\, while benefiting the San Francisco University High School Financial Aid Program. Transformed by visionary Bay Area talents\, a visit to the spectacular Showcase home is a beloved spring tradition for design inspiration.<br />\n<br />\nSince 1977\, the San Francisco Decorator Showcase has raised over $18 million to benefit the San Francisco University High School Financial Aid Program.\n<div style="text-align: center\;"><strong>2898 Broadway<br />\nSan Francisco\, CA 94115</strong></div>\n<br />\n<strong>HOURS VARY:</strong><br />\nTuesday\, Wednesday\, Thursday and Saturday: 10:00 a.m. - 3:00 p.m. (last entry)\;<br />\nFriday: 10:00 a.m. - 7:00 p.m. (last entry)\;<br />\nSunday and Memorial Day: 11:00 a.m. - 4:00 p.m. (last entry)\;<br />\n<strong>CLOSED MONDAYS&nbsp\;</strong>(except Memorial Day)<br />\n<br />\n<strong><a href="https://mailchi.mp/sfuhs/2024-decorator-showcase-buy-tickets-now?e=a39d7339cd">View More Information Here</a></strong><br />\n<br />\n&nbsp\;
LOCATION:2898 Broadway San Francisco\, CA 94115
UID:e.9100.5312
SEQUENCE:3
DTSTAMP:20260422T193641Z
URL:http://marinba.memberzone.com/events/details/welcome-to-decorator-showcase-2024-april-27-may-27-5312
END:VEVENT

END:VCALENDAR
